BEGIN:VCALENDAR
VERSION:2.0
PRODID:-//jEvents 2.0 for Joomla//EN
CALSCALE:GREGORIAN
METHOD:PUBLISH
BEGIN:VTIMEZONE
TZID:Europe/Berlin
BEGIN:STANDARD
DTSTART:20231130T180000
RDATE:20240331T030000
TZOFFSETFROM:+0200
TZOFFSETTO:+0100
TZNAME:Europe/Berlin CET
END:STANDARD
BEGIN:STANDARD
DTSTART:20241027T020000
RDATE:20250330T030000
TZOFFSETFROM:+0200
TZOFFSETTO:+0100
TZNAME:Europe/Berlin CET
END:STANDARD
BEGIN:STANDARD
DTSTART:20251026T020000
RDATE:20260329T030000
TZOFFSETFROM:+0200
TZOFFSETTO:+0100
TZNAME:Europe/Berlin CET
END:STANDARD
BEGIN:STANDARD
DTSTART:20261025T020000
RDATE:20270328T030000
TZOFFSETFROM:+0200
TZOFFSETTO:+0100
TZNAME:Europe/Berlin CET
END:STANDARD
BEGIN:DAYLIGHT
DTSTART:20240331T030000
RDATE:20241027T020000
TZOFFSETFROM:+0100
TZOFFSETTO:+0200
TZNAME:Europe/Berlin CEST
END:DAYLIGHT
BEGIN:DAYLIGHT
DTSTART:20250330T030000
RDATE:20251026T020000
TZOFFSETFROM:+0100
TZOFFSETTO:+0200
TZNAME:Europe/Berlin CEST
END:DAYLIGHT
BEGIN:DAYLIGHT
DTSTART:20260329T030000
RDATE:20261025T020000
TZOFFSETFROM:+0100
TZOFFSETTO:+0200
TZNAME:Europe/Berlin CEST
END:DAYLIGHT
END:VTIMEZONE
BEGIN:VEVENT
UID:a5fc2c921cce39556a506b516ee49698
CATEGORIES:Chorkonzert zum 1. Advent
CREATED:20231128T154703
SUMMARY:BACH | MESSE IN H-MOLL || Kurt-Thomas-Kammerchor || KLOSTER ENGELTHAL
LOCATION:: Kloster Engelthal / Altenstadt (Klosterstr. 2\, 63674 Altenstadt)
URL;VALUE=URI:https://kurt-thomas-kammerchor.de/de/konzertprogramm-de/konzertkalender/Eve
 ntdetail/255/-/bach-messe-in-h-moll-kurt-thomas-kammerchor-kloster-engeltha
 l?tmpl=component
DESCRIPTION:<p style="text-align: left;"><strong>Samstag, 30.11.2024, 18:00 Uhr<br /><a
  href="http://www.abtei-kloster-engelthal.de/" target="_blank" rel="alterna
 te noopener noreferrer" title="Benediktinerinnenabtei Kloster Engelthal (Kl
 osterstraße 2, 63674 Altenstadt / Hessen)">Benediktinerinnenabtei Kloster E
 ngelthal</a> </strong></p><h4 style="text-align: left;"><strong>Johann Seba
 stian Bach </strong>(1685-1750)<br /><strong>Messe in h-moll | BWV 232</str
 ong></h4><p style="text-align: left;"><strong>Simone Schwark </strong>| Sop
 ran<strong><br />Anne Bierwirth&nbsp;</strong>| Alt<strong><br />Georg Popl
 utz&nbsp;</strong>| Tenor<strong><br /></strong><strong>Konstantin Paganett
 i </strong>| Bass</p><p style="text-align: left;"><strong>KURT-THOMAS-KAMME
 RCHOR</strong><br /><a href="http://www.kurt-thomas-kammerchor.de" target="
 _blank" rel="alternate noopener noreferrer" title="www.kurt-thomas-kammerch
 or.de">www.kurt-thomas-kammerchor.de</a><br /><strong>Telemann-Ensemble Fra
 nkfurt</strong><br /><strong>Andreas Köhs</strong> | Leitung</p><hr /><p st
 yle="text-align: left;"><strong><i class="fas fa-ticket"></i> Tickets</stro
 ng>: 25 EUR | Abendkasse<br /><strong>Kartenvorverkauf</strong> im Klosterf
 orum: samstags 13:30 - 16:00 Uhr<br /><strong>Kartenvorbestellungen</strong
 > unter: konzertkarten(at)abtei-kloster-engelthal.de</p><hr /><p>&nbsp;</p>
  <a href="https://kurt-thomas-kammerchor.de/de/konzertprogramm-de/konzertka
 lender/Eventdetail/255/-/bach-messe-in-h-moll-kurt-thomas-kammerchor-kloste
 r-engelthal?tmpl=component">Dieser Event wurde importiert von: https://kurt
 -thomas-kammerchor.de/de/konzertprogramm-de/konzertkalender/Eventdetail/255
 /-/bach-messe-in-h-moll-kurt-thomas-kammerchor-kloster-engelthal?tmpl=compo
 nent</a>DTSTAMP:20260422T023132
DTSTART;TZID=Europe/Berlin:20241130T180000
DTEND;TZID=Europe/Berlin:20241130T200000
SEQUENCE:0
TRANSP:OPAQUE
END:VEVENT
END:VCALENDAR