BEGIN:VCALENDAR
VERSION:2.0
PRODID:-//jEvents 2.0 for Joomla//EN
CALSCALE:GREGORIAN
METHOD:PUBLISH
BEGIN:VTIMEZONE
TZID:Europe/Berlin
BEGIN:STANDARD
DTSTART:20231201T170000
RDATE:20240331T030000
TZOFFSETFROM:+0200
TZOFFSETTO:+0100
TZNAME:Europe/Berlin CET
END:STANDARD
BEGIN:STANDARD
DTSTART:20241027T020000
RDATE:20250330T030000
TZOFFSETFROM:+0200
TZOFFSETTO:+0100
TZNAME:Europe/Berlin CET
END:STANDARD
BEGIN:STANDARD
DTSTART:20251026T020000
RDATE:20260329T030000
TZOFFSETFROM:+0200
TZOFFSETTO:+0100
TZNAME:Europe/Berlin CET
END:STANDARD
BEGIN:STANDARD
DTSTART:20261025T020000
RDATE:20270328T030000
TZOFFSETFROM:+0200
TZOFFSETTO:+0100
TZNAME:Europe/Berlin CET
END:STANDARD
BEGIN:DAYLIGHT
DTSTART:20240331T030000
RDATE:20241027T020000
TZOFFSETFROM:+0100
TZOFFSETTO:+0200
TZNAME:Europe/Berlin CEST
END:DAYLIGHT
BEGIN:DAYLIGHT
DTSTART:20250330T030000
RDATE:20251026T020000
TZOFFSETFROM:+0100
TZOFFSETTO:+0200
TZNAME:Europe/Berlin CEST
END:DAYLIGHT
BEGIN:DAYLIGHT
DTSTART:20260329T030000
RDATE:20261025T020000
TZOFFSETFROM:+0100
TZOFFSETTO:+0200
TZNAME:Europe/Berlin CEST
END:DAYLIGHT
END:VTIMEZONE
BEGIN:VEVENT
UID:37d555d68ca64a1b893694f11a0e2595
CATEGORIES:Chorkonzert zum 1. Advent
CREATED:20231128T154825
SUMMARY:BACH | MESSE IN H-MOLL || Kurt-Thomas-Kammerchor || DREIKÖNIGSKIRCHE Frankfurt am Main
LOCATION:: Dreikönigskirche Frankfurt am Main (Sachsenhäuser Ufer | Nähe Eiserner St
 eg)
URL;VALUE=URI:https://kurt-thomas-kammerchor.de/de/konzertprogramm-de/konzertkalender/Eve
 ntdetail/256/-/bach-messe-in-h-moll-kurt-thomas-kammerchor-dreikoenigskirch
 e-frankfurt-am-main?tmpl=component
DESCRIPTION:<p style="text-align: left;"><strong>Sonntag, 01.12.2024, 17:00 Uhr<br /></
 strong>(1. Advent)<br /><strong><a href="http://www.kirchenmusik-dreikoenig
 .de" target="_blank" rel="alternate noopener noreferrer" title="Dreikönigsk
 irche Frankfurt am Main (Sachsenhäuser Mainufer, Nähe Eiserner Steg)">Dreik
 önigskirche Frankfurt am Main</a></strong></p><h4 style="text-align: left;"
 ><strong>Johann Sebastian Bach </strong>(1685-1750)<br /><strong>Messe in h
 -moll | BWV 232</strong></h4><p style="text-align: left;"><strong>Simone Sc
 hwark </strong>| Sopran<strong><br />Anne Bierwirth&nbsp;</strong>| Alt<str
 ong><br />Georg Poplutz&nbsp;</strong>| Tenor<strong><br /></strong><strong
 >Konstantin Paganetti </strong>| Bass</p><p style="text-align: left;"><stro
 ng>KURT-THOMAS-KAMMERCHOR</strong><br /><a href="http://www.kurt-thomas-kam
 merchor.de" target="_blank" rel="alternate noopener noreferrer" title="www.
 kurt-thomas-kammerchor.de">www.kurt-thomas-kammerchor.de</a><br /><strong>T
 elemann-Ensemble Frankfurt</strong><br /><strong>Andreas Köhs</strong> | Le
 itung</p><hr /><p style="text-align: left;"><strong><i class="fas fa-ticket
 "></i> Tickets</strong>: 35 EUR, ermäßigt 25 EUR (Abendkasse)<br /><strong>
 <i class="fas fa-ticket"></i> Ticketsvorverkauf:&nbsp;</strong> via Frankfu
 rt-Ticket RheinMain (zzgl. Vorverkaufsgebühr):<br /><a href="https://www.fr
 ankfurtticket.de/tickets/j-s-bach-messe-in-h-moll-bwv-232-15776.67507" targ
 et="_blank" rel="noopener" class="btn btn-sm btn-primary" title="Ticket-Onl
 ine: BACH | MESSE in H-MOLL | 01.12.2024 | Dreikönigskirche || via Frankfur
 t-Ticket RheinMain (zzgl. Vorverkaufsgebühr)"><strong>Ticket-Online: BACH |
  MESSE in H-MOLL | 01.12.2024 | Dreikönigskirche</strong></a></p><hr /> <a 
 href="https://kurt-thomas-kammerchor.de/de/konzertprogramm-de/konzertkalend
 er/Eventdetail/256/-/bach-messe-in-h-moll-kurt-thomas-kammerchor-dreikoenig
 skirche-frankfurt-am-main?tmpl=component">Dieser Event wurde importiert von
 : https://kurt-thomas-kammerchor.de/de/konzertprogramm-de/konzertkalender/E
 ventdetail/256/-/bach-messe-in-h-moll-kurt-thomas-kammerchor-dreikoenigskir
 che-frankfurt-am-main?tmpl=component</a>DTSTAMP:20260421T233116
DTSTART;TZID=Europe/Berlin:20241201T170000
DTEND;TZID=Europe/Berlin:20241201T190000
SEQUENCE:0
TRANSP:OPAQUE
END:VEVENT
END:VCALENDAR