BEGIN:VCALENDAR
VERSION:2.0
PRODID:-//jEvents 2.0 for Joomla//EN
CALSCALE:GREGORIAN
METHOD:PUBLISH
BEGIN:VTIMEZONE
TZID:Europe/Berlin
BEGIN:STANDARD
DTSTART:20230325T200000
RDATE:20230326T030000
TZOFFSETFROM:+0200
TZOFFSETTO:+0100
TZNAME:Europe/Berlin CET
END:STANDARD
BEGIN:STANDARD
DTSTART:20231029T020000
RDATE:20240331T030000
TZOFFSETFROM:+0200
TZOFFSETTO:+0100
TZNAME:Europe/Berlin CET
END:STANDARD
BEGIN:STANDARD
DTSTART:20241027T020000
RDATE:20250330T030000
TZOFFSETFROM:+0200
TZOFFSETTO:+0100
TZNAME:Europe/Berlin CET
END:STANDARD
BEGIN:STANDARD
DTSTART:20251026T020000
RDATE:20260329T030000
TZOFFSETFROM:+0200
TZOFFSETTO:+0100
TZNAME:Europe/Berlin CET
END:STANDARD
BEGIN:STANDARD
DTSTART:20261025T020000
RDATE:20270328T030000
TZOFFSETFROM:+0200
TZOFFSETTO:+0100
TZNAME:Europe/Berlin CET
END:STANDARD
BEGIN:DAYLIGHT
DTSTART:20230326T030000
RDATE:20231029T020000
TZOFFSETFROM:+0100
TZOFFSETTO:+0200
TZNAME:Europe/Berlin CEST
END:DAYLIGHT
BEGIN:DAYLIGHT
DTSTART:20240331T030000
RDATE:20241027T020000
TZOFFSETFROM:+0100
TZOFFSETTO:+0200
TZNAME:Europe/Berlin CEST
END:DAYLIGHT
BEGIN:DAYLIGHT
DTSTART:20250330T030000
RDATE:20251026T020000
TZOFFSETFROM:+0100
TZOFFSETTO:+0200
TZNAME:Europe/Berlin CEST
END:DAYLIGHT
BEGIN:DAYLIGHT
DTSTART:20260329T030000
RDATE:20261025T020000
TZOFFSETFROM:+0100
TZOFFSETTO:+0200
TZNAME:Europe/Berlin CEST
END:DAYLIGHT
END:VTIMEZONE
BEGIN:VEVENT
UID:0d8ce181990565cffbb183b23fc95bf7
CATEGORIES:Chorkonzert zur Passion
CREATED:20231128T155210
SUMMARY:BACH | JOHANNESPASSION || Kurt-Thomas-Kammerchor || Heiliggeistkirche im Dominikanerkloster Frankfurt am Main
LOCATION:: Heiliggeistkirche im Dominikanerkloster Frankfurt am Main (Dominikanergas
 se 14\, 60311 Frankfurt)
URL;VALUE=URI:https://kurt-thomas-kammerchor.de/de/konzertprogramm-de/konzertkalender/Eve
 ntdetail/258/-/bach-johannespassion-kurt-thomas-kammerchor-heiliggeistkirch
 e-im-dominikanerkloster-frankfurt-am-main?tmpl=component
DESCRIPTION:<p style="text-align: left;"><strong>Montag, 25.03.2024, 20:00 Uhr<br /><a 
 href="http://kirchenmusikverein.kmv-frankfurt.de/" target="_blank" rel="alt
 ernate noopener noreferrer" title="Heiliggeistkirche im Dominikanerkloster 
 Frankfurt am Main (Kurt-Schumacher-Str. 23 / Dominikanergasse 14, 60311 Fra
 nkfurt am Main">Heiliggeistkirche im Dominikanerkloster Frankfurt am Main</
 a></strong></p><h4 style="text-align: left;"><strong>Johann Sebastian Bach 
 </strong>(1685-1750)<br /><strong>Johannes-Passion | BWV 245</strong></h4><
 p style="text-align: left;"><strong>(300 Jahre Uraufführung der Johannes-Pa
 ssion)<br /></strong></p><p style="text-align: left;"><strong>Annemarie Pfa
 hler </strong>| Sopran<strong><br />Julia Diefenbach </strong>| Alt<strong>
 <br />Georg Poplutz&nbsp;</strong>| Tenor<strong><br /></strong><strong>Joh
 annes Hill </strong>| Bass (Jesus)<br /><strong>Konstantin Paganetti</stron
 g> | Bass (Arien)</p><p style="text-align: left;"><strong>KURT-THOMAS-KAMME
 RCHOR</strong><br /><a href="http://www.kurt-thomas-kammerchor.de" target="
 _blank" rel="alternate noopener noreferrer" title="www.kurt-thomas-kammerch
 or.de">www.kurt-thomas-kammerchor.de</a><br /><strong>Telemann-Ensemble Fra
 nkfurt</strong><br /><strong>Andreas Köhs</strong> | Leitung</p><hr /><p><s
 trong><i class="fas fa-ticket"></i> Tickets-Info</strong>: <a href="http://
 kirchenmusikverein.kmv-frankfurt.de/" target="_blank" rel="alternate noopen
 er noreferrer" title="Heiliggeistkirche im Dominikanerkloster Frankfurt am 
 Main (Kurt-Schumacher-Str. 23 / Dominikanergasse 14, 60311 Frankfurt am Mai
 n">Heiliggeistkirche im Dominikanerkloster Frankfurt am Main</a><br />(Aben
 dkasse | freie Platzwahl)</p><hr /> <a href="https://kurt-thomas-kammerchor
 .de/de/konzertprogramm-de/konzertkalender/Eventdetail/258/-/bach-johannespa
 ssion-kurt-thomas-kammerchor-heiliggeistkirche-im-dominikanerkloster-frankf
 urt-am-main?tmpl=component">Dieser Event wurde importiert von: https://kurt
 -thomas-kammerchor.de/de/konzertprogramm-de/konzertkalender/Eventdetail/258
 /-/bach-johannespassion-kurt-thomas-kammerchor-heiliggeistkirche-im-dominik
 anerkloster-frankfurt-am-main?tmpl=component</a>DTSTAMP:20260421T220623
DTSTART;TZID=Europe/Berlin:20240325T200000
DTEND;TZID=Europe/Berlin:20240325T213000
SEQUENCE:0
TRANSP:OPAQUE
END:VEVENT
END:VCALENDAR